BEGIN:VCALENDAR
VERSION:2.0
PRODID:-//ChamberMaster//Event Calendar 2.0//EN
METHOD:PUBLISH
X-PUBLISHED-TTL:P3D
REFRESH-INTERVAL:P3D
CALSCALE:GREGORIAN
BEGIN:VEVENT
DTSTART:20131104T200000Z
DTEND:20131105T010000Z
X-MICROSOFT-CDO-ALLDAYEVENT:FALSE
SUMMARY:13th District Legislative Day Kittitas County
DESCRIPTION:Join the 13th District Legislators on Monday November 4th from 12:00 noon to 5:00 pm at the Day's Inn Field House the schedule\n\n12:00 - 1:00 pm     Business\, Economic Development\n\n1:00 - 1:45 pm        Agriculture\n\n1:45- 2:30 pm        City/County Officials and Staff\n\n2:30 - 3:15 pm       Central Washington University\n\n3:15 - 4:00 pm       Health Care/ Social Services\n\n4:00 - 4:30 pm       Education\n\n4:30 - 5:00 pm       Open Session\n\nWe encourage you to attend
X-ALT-DESC;FMTTYPE=text/html:Join the 13th District Legislators on Monday November 4th from 12:00 noon to 5:00 pm at the Day&#39\;s Inn Field House the schedule<br />\n12:00 - 1:00 pm&nbsp\;&nbsp\;&nbsp\;&nbsp\;&nbsp\;Business\, Economic Development<br />\n1:00 - 1:45 pm&nbsp\;&nbsp\;&nbsp\;&nbsp\;&nbsp\;&nbsp\;&nbsp\;&nbsp\;Agriculture<br />\n1:45- 2:30 pm&nbsp\;&nbsp\;&nbsp\;&nbsp\;&nbsp\;&nbsp\;&nbsp\;&nbsp\;City/County Officials and Staff<br />\n2:30 - 3:15&nbsp\;pm&nbsp\;&nbsp\;&nbsp\;&nbsp\;&nbsp\;&nbsp\;&nbsp\;Central Washington University<br />\n3:15 - 4:00 pm&nbsp\;&nbsp\;&nbsp\;&nbsp\;&nbsp\;&nbsp\;&nbsp\;Health Care/ Social Services<br />\n4:00 - 4:30 pm&nbsp\;&nbsp\;&nbsp\;&nbsp\;&nbsp\;&nbsp\;&nbsp\;Education<br />\n4:30 - 5:00 pm&nbsp\;&nbsp\;&nbsp\;&nbsp\;&nbsp\;&nbsp\;&nbsp\;Open Session<br />\nWe encourage you to attend 
LOCATION:Day's Inn Field House 901 Berry Rd.\, located just south of the Canyon rd. Interchange
UID:e.40.10819
SEQUENCE:3
DTSTAMP:20260419T224803Z
URL:http://business.kittitascountychamber.com/events/details/13th-district-legislative-day-kittitas-county-11-04-2013-10819
END:VEVENT

END:VCALENDAR
