BEGIN:VCALENDAR
VERSION:2.0
PRODID:-//ChamberMaster//Event Calendar 2.0//EN
METHOD:PUBLISH
X-PUBLISHED-TTL:P3D
REFRESH-INTERVAL:P3D
CALSCALE:GREGORIAN
BEGIN:VEVENT
DTSTART:20121215T023000Z
DTEND:20121215T043000Z
X-MICROSOFT-CDO-ALLDAYEVENT:FALSE
SUMMARY:17th Annual Tree of Love
DESCRIPTION:Hospice Friends cordially invites you to attend the 17th Annual Tree of Love..a gathering of remembrance - candle light vigil and memorial.\n\n	\n\n	The tree lighting memorial ceremony and reception are FREE and open to the public.  This event honors the memories of family\, friends and neighbors who lived among us and continue to live in our hearts.\n\n	\n\n	The lights on the Tree of Love symbolize the lives of those\, both living and deceased\, who have special significance in our lives.  Every light on the tree represents love\, warmth and gratitude for remembered moments\, days and years shared with a family member or precious friend.
X-ALT-DESC;FMTTYPE=text/html:<p>\n	<strong><em>Hospice Friends </em></strong><em>cordially invites you to attend the <strong>17th Annual Tree of </strong><strong>Love.</strong>.a gathering of remembrance - candle light vigil and memorial.<br />\n	<br />\n	The tree lighting memorial ceremony and reception are <strong>FREE</strong> and open to the public.&nbsp\; This event honors the memories of family\, friends and neighbors who lived among us and continue to live in our hearts.<br />\n	<br />\n	The lights on the <strong>Tree of Love </strong>symbolize the lives of those\, both living and deceased\, who have special significance in our lives.&nbsp\; Every light on the tree represents love\, warmth and gratitude for remembered moments\, days and years shared with a family member or precious friend.</em></p>\n
LOCATION:Upper Kittitas County Senior Center 719 E 3rd St Cle Elum\, WA
UID:e.40.8855
SEQUENCE:3
DTSTAMP:20260420T182740Z
URL:http://business.kittitascountychamber.com/events/details/17th-annual-tree-of-love-12-14-2012-8855
END:VEVENT

END:VCALENDAR
