BEGIN:VCALENDAR
VERSION:2.0
PRODID:-//ChamberMaster//Event Calendar 2.0//EN
METHOD:PUBLISH
X-PUBLISHED-TTL:P3D
REFRESH-INTERVAL:P3D
CALSCALE:GREGORIAN
BEGIN:VEVENT
DTSTART:20130622T230000Z
DTEND:20130623T050000Z
X-MICROSOFT-CDO-ALLDAYEVENT:FALSE
SUMMARY:2013 Clymer Art Auction and Celebration
DESCRIPTION:Winemaker's dinner and auction to benefit the Clymer Museum and Gallery. 50 top artists from the Western Art World.
X-ALT-DESC;FMTTYPE=text/html:Winemaker&#39\;s dinner and auction to benefit the Clymer Museum and Gallery. 50 top artists from the Western Art World.
LOCATION:Canyon River Ranch 14694 Canyon River Rd. Ellensburg WA
UID:e.40.8859
SEQUENCE:3
DTSTAMP:20260420T064754Z
URL:http://business.kittitascountychamber.com/events/details/2013-clymer-art-auction-and-celebration-06-22-2013-8859
END:VEVENT

END:VCALENDAR
