BEGIN:VCALENDAR
VERSION:2.0
PRODID:-//ChamberMaster//Event Calendar 2.0//EN
METHOD:PUBLISH
X-PUBLISHED-TTL:P3D
REFRESH-INTERVAL:P3D
CALSCALE:GREGORIAN
BEGIN:VEVENT
DTSTART:20140417T160000Z
DTEND:20140417T200000Z
X-MICROSOFT-CDO-ALLDAYEVENT:FALSE
SUMMARY:2014 Community Wellness Fair -
DESCRIPTION:2014 Community Wellness Fair - At Rosewood in their event center.  There will be health screenings\, food and exercise demonstrations\, giveaways\,and  much more
X-ALT-DESC;FMTTYPE=text/html:2014 Community Wellness Fair - At Rosewood in their event center. &nbsp\;There will be health screenings\, food and exercise demonstrations\, giveaways\,and &nbsp\;much more&nbsp\;
LOCATION:Rosewood Adult Living Center 1100 S. Rosewood Drive
UID:e.40.11216
SEQUENCE:3
DTSTAMP:20260419T144003Z
URL:http://business.kittitascountychamber.com/events/details/2014-community-wellness-fair-04-17-2014-11216
END:VEVENT

END:VCALENDAR
