BEGIN:VCALENDAR
VERSION:2.0
PRODID:-//ChamberMaster//Event Calendar 2.0//EN
METHOD:PUBLISH
X-PUBLISHED-TTL:P3D
REFRESH-INTERVAL:P3D
CALSCALE:GREGORIAN
BEGIN:VEVENT
DTSTART:20140419T000000Z
DTEND:20140419T030000Z
X-MICROSOFT-CDO-ALLDAYEVENT:FALSE
SUMMARY:2014 CWHBA Kittitas Crab Feed
DESCRIPTION:2014 CWHBA Kitttias Crab Feed.  Come support "The Team Behind your Dream" at the Kittitas Valley Event Center Manastash Room. Doors open at 5:00 pm\; Dinner is from 5:30  pm - 7:30 pm. Cadillac Stag Raffle and Dessert to follow.  Cost is $35.00 per person or table of 8 for $240.00\; Kids 5 & Under $10.00 and 6-12 $20.00.  Ticket includes All- you -Can-Eat Crab\, Catered Sides\, Salad\, Bread\, Pop & Water.  Adult beverages are available for purchase.
X-ALT-DESC;FMTTYPE=text/html:2014 CWHBA Kitttias Crab Feed. &nbsp\;Come support &quot\;The Team Behind your Dream&quot\; at the Kittitas Valley Event Center Manastash Room. Doors open at 5:00 pm\; Dinner is from 5:30 &nbsp\;pm - 7:30 pm. Cadillac Stag Raffle and Dessert to follow. &nbsp\;Cost is $35.00 per person or table of 8 for $240.00\; Kids 5 &amp\; Under $10.00 and 6-12 $20.00. &nbsp\;Ticket includes All- you -Can-Eat Crab\, Catered Sides\, Salad\, Bread\, Pop &amp\; Water. &nbsp\;Adult beverages are available for purchase. &nbsp\; &nbsp\; &nbsp\; &nbsp\;&nbsp\;
LOCATION:Kittitas Valley Event Center - Manastash Room 512 N. Poplar Ellensburg\, Wa 98926
UID:e.40.11217
SEQUENCE:3
DTSTAMP:20260419T161041Z
URL:http://business.kittitascountychamber.com/events/details/2014-cwhba-kittitas-crab-feed-04-18-2014-11217
END:VEVENT

END:VCALENDAR
