BEGIN:VCALENDAR
VERSION:2.0
PRODID:-//ChamberMaster//Event Calendar 2.0//EN
METHOD:PUBLISH
X-PUBLISHED-TTL:P3D
REFRESH-INTERVAL:P3D
CALSCALE:GREGORIAN
BEGIN:VEVENT
DTSTART:20130707T160000Z
DTEND:20130707T160000Z
X-MICROSOFT-CDO-ALLDAYEVENT:FALSE
SUMMARY:34th annual Runner Stumbles 10K Run/5k Walk/Run
DESCRIPTION:Come to the 34th Annual Runner Stumbles 10K run & 5K walk/run as part of the 2013 Cle Elum Pioneer Days. Located at Suncadia Resort.\n\n\n\nRegistration is from 7:30am-8:30am\n\n\n\nRace- 9:00am\n\n\n\nChildren's Race- 10:00am\n\n\n\nAwards on site\, immediately following race
X-ALT-DESC;FMTTYPE=text/html:Come to the 34th Annual Runner Stumbles 10K run &amp\; 5K walk/run as part of the 2013 Cle Elum&nbsp\;Pioneer Days. Located at Suncadia Resort.<br />\n<br />\nRegistration is from 7:30am-8:30am<br />\n<br />\nRace- 9:00am<br />\n<br />\nChildren&#39\;s Race- 10:00am<br />\n<br />\nAwards on site\, immediately following race
LOCATION:Suncadia Resort
UID:e.40.10368
SEQUENCE:3
DTSTAMP:20260420T050607Z
URL:http://business.kittitascountychamber.com/events/details/34th-annual-runner-stumbles-10k-run-5k-walk-run-07-07-2013-10368
END:VEVENT

END:VCALENDAR
