BEGIN:VCALENDAR
VERSION:2.0
PRODID:-//ChamberMaster//Event Calendar 2.0//EN
METHOD:PUBLISH
X-PUBLISHED-TTL:P3D
REFRESH-INTERVAL:P3D
CALSCALE:GREGORIAN
BEGIN:VEVENT
DTSTART:20140420T030000Z
DTEND:20140420T050000Z
X-MICROSOFT-CDO-ALLDAYEVENT:FALSE
SUMMARY:3rd Annual Flashlight Easter Egg Hunt
DESCRIPTION:3 rd Annual Flashlight Easter Egg Hunt.  Saturday April 19\, 2014. There are prizes to be won\,\,\,\,\,lots of fun.  This event is for those 12 years of age and older.  Remember to bring your flashlight....Entry time begins at 8:00 pm with the Hunt starting at 9:00 pm.  Proceeds to benefit Vision Cle Elum and the Cle Elum - Roslyn High School Senior Class.  There will also be a "Balloon Pop" those proceeds will benefit Cle Elum- Roslyn Band Department.
X-ALT-DESC;FMTTYPE=text/html:3 rd Annual Flashlight Easter Egg Hunt. &nbsp\;Saturday April 19\, 2014. There are prizes to be won\,\,\,\,\,lots of fun. &nbsp\;This event is for those 12 years of age and older. &nbsp\;Remember to bring your flashlight....Entry time begins at 8:00 pm with the Hunt starting at 9:00 pm. &nbsp\;Proceeds to benefit Vision Cle Elum and the Cle Elum - Roslyn High School Senior Class. &nbsp\;There will also be a &quot\;Balloon Pop&quot\; those proceeds will benefit Cle Elum- Roslyn Band Department.
LOCATION:Cle Elum - Roslyn Elementary and Middle School Ball Fields.
UID:e.40.11155
SEQUENCE:3
DTSTAMP:20260419T143446Z
URL:http://business.kittitascountychamber.com/events/details/3rd-annual-flashlight-easter-egg-hunt-04-19-2014-11155
END:VEVENT

END:VCALENDAR
