BEGIN:VCALENDAR
VERSION:2.0
PRODID:-//ChamberMaster//Event Calendar 2.0//EN
METHOD:PUBLISH
X-PUBLISHED-TTL:P3D
REFRESH-INTERVAL:P3D
CALSCALE:GREGORIAN
BEGIN:VEVENT
DTSTART:20140531T170000Z
DTEND:20140531T220000Z
X-MICROSOFT-CDO-ALLDAYEVENT:FALSE
SUMMARY:3rd annual Wildcat Dash: 5k obstacle course
DESCRIPTION:University Recreation is hosting the 3rd annual Wildcat Dash\, a 5k obstacle course\, Saturday\, May 31 at 10 a.m. Registration is available at www.cwu.edu/tickets or at the Recreation Center front desk and is $20 for CWU students and Recreation Center members and $40 for non-members. There will be an additional $5 added to the registration fee for those who register after Monday\, May 26. Along with running\, the Wildcat Dash is equipped with 12 obstacles designed to challenge each participant physically and mentally. Obstacles will include crawling through mud to carrying logs to the finish line.  Participants will get muddy\, so appropriate attire and footwear are required. Participants should arrive 30 minutes prior to receive their race number and sign a waiver.  For questions and more information contact Eric Scott\, CWU University Recreation\, at 509-963-3511 or scotter@cwu.edu.
X-ALT-DESC;FMTTYPE=text/html:University Recreation is hosting the 3rd annual Wildcat Dash\, a 5k obstacle course\, Saturday\, May 31 at 10 a.m. Registration is available at www.cwu.edu/tickets or at the Recreation Center front desk and is $20 for CWU students and Recreation Center members and $40 for non-members. There will be an additional $5 added to the registration fee for those who register after Monday\, May 26. Along with running\, the Wildcat Dash is equipped with 12 obstacles designed to challenge each participant physically and mentally. Obstacles will include crawling through mud to carrying logs to the finish line.&nbsp\; Participants will get muddy\, so appropriate attire and footwear are required. Participants should arrive 30 minutes prior to receive their race number and sign a waiver.&nbsp\; For questions and more information contact Eric Scott\, CWU University Recreation\, at 509-963-3511 or scotter@cwu.edu.
LOCATION:CWU
UID:e.40.11638
SEQUENCE:3
DTSTAMP:20260419T125326Z
URL:http://business.kittitascountychamber.com/events/details/3rd-annual-wildcat-dash-5k-obstacle-course-05-31-2014-11638
END:VEVENT

END:VCALENDAR
