BEGIN:VCALENDAR
VERSION:2.0
PRODID:-//ChamberMaster//Event Calendar 2.0//EN
METHOD:PUBLISH
X-PUBLISHED-TTL:P3D
REFRESH-INTERVAL:P3D
CALSCALE:GREGORIAN
BEGIN:VEVENT
DTSTART:20140419T163000Z
DTEND:20140419T200000Z
X-MICROSOFT-CDO-ALLDAYEVENT:FALSE
SUMMARY:41st Annual Yakima River Cleanup
DESCRIPTION:As a part of worldwide Earth Week\, CWU and the local community are teaming up for the 41st annual Yakima River Cleanup. Volunteers will be able to enjoy a sunny Saturday morning restoring the shoreline and renovating campsites along the Yakima River April 19 from 9:30 a.m. to 1 p.m. Transportation\, breakfast and lunch will all be provided for all volunteers\, as well as a free t-shirt for those who have registered by April 9 by visiting www.cwu.edu/leadership-engage. This event is sponsored by the Center for Leadership and Community Engagement (CLCE)\, the Bureau of Land Management\, the City of Ellensburg\, Fish and Wildlife and Mid-Columbia Fisheries. For more information please contact CLCE at 509-963-1850 or clce@cwu.edu.
X-ALT-DESC;FMTTYPE=text/html:As a part of worldwide Earth Week\, CWU and the local community are teaming up for the 41st annual Yakima River Cleanup. Volunteers will be able to enjoy a sunny Saturday morning restoring the shoreline and renovating campsites along the Yakima River April 19 from 9:30 a.m. to 1 p.m. Transportation\, breakfast and lunch will all be provided for all volunteers\, as well as a free t-shirt for those who have registered by April 9 by visiting www.cwu.edu/leadership-engage. This event is sponsored by the Center for Leadership and Community Engagement (CLCE)\, the Bureau of Land Management\, the City of Ellensburg\, Fish and Wildlife and Mid-Columbia Fisheries. For more information please contact CLCE at 509-963-1850 or clce@cwu.edu.
LOCATION:Meet at CWU Student Union and Recreation Center (SURC) East Patio
UID:e.40.11305
SEQUENCE:3
DTSTAMP:20260419T144024Z
URL:http://business.kittitascountychamber.com/events/details/41st-annual-yakima-river-cleanup-04-19-2014-11305
END:VEVENT

END:VCALENDAR
