BEGIN:VCALENDAR
VERSION:2.0
PRODID:-//ChamberMaster//Event Calendar 2.0//EN
METHOD:PUBLISH
X-PUBLISHED-TTL:P3D
REFRESH-INTERVAL:P3D
CALSCALE:GREGORIAN
BEGIN:VEVENT
DTSTART;VALUE=DATE:20131204
DTEND;VALUE=DATE:20131205
TRANSP:TRANSPARENT
X-MICROSOFT-CDO-ALLDAYEVENT:TRUE
SUMMARY:5 Days of Christmas
DESCRIPTION:HopeSource and Canyon River Ranch invite you to enjoy 5 Days of Christmas.  There will be several events available to attend.  A Black Tie Gala\, Designer Holiday Trees & Wreathes\, a One of a Kind Holiday Store and Trunk Show\,Jr. Elf Celebration\, Holiday Baking Demonstrations and a  Community Reception and Open House
X-ALT-DESC;FMTTYPE=text/html:HopeSource and Canyon River Ranch invite you to enjoy 5 Days of Christmas.&nbsp\; There will be several events available to attend.&nbsp\; A Black Tie Gala\, Designer Holiday Trees &amp\; Wreathes\, a One of a Kind Holiday Store and Trunk Show\,Jr. Elf Celebration\, Holiday Baking Demonstrations and a&nbsp\; Community Reception and Open House
LOCATION:Canyon River Ranch 14694 Hwy 821 Mile Marker 15
UID:e.40.10325
SEQUENCE:3
DTSTAMP:20260419T211033Z
URL:http://business.kittitascountychamber.com/events/details/5-days-of-christmas-12-04-2013-10325
END:VEVENT

END:VCALENDAR
