BEGIN:VCALENDAR
VERSION:2.0
PRODID:-//ChamberMaster//Event Calendar 2.0//EN
METHOD:PUBLISH
X-PUBLISHED-TTL:P3D
REFRESH-INTERVAL:P3D
CALSCALE:GREGORIAN
BEGIN:VEVENT
DTSTART:20130519T200000Z
DTEND:20130519T220000Z
X-MICROSOFT-CDO-ALLDAYEVENT:FALSE
SUMMARY:5k Run for Morgan Middle School
DESCRIPTION:Join in on the fun Sunday\, May 19 at the 5k Run for Morgan Middle School. Check-in begins at 11:30 a.m. on the CWU Student Union and Recreation Center (SURC) East Patio\, with the race starting at 1 p.m. Registration is $12\, available online at www.cwu.edu/tickets and covers the race\, a t-shirt and free food for the runners/walkers. All proceeds will go to the Morgan Middle School PE Department to purchase new equipment. For more information contact the CWU Center for Leadership and Community Engagement at 509-963-1850 or clce@cwu.edu.
X-ALT-DESC;FMTTYPE=text/html:Join in on the fun Sunday\, May 19 at the 5k Run for Morgan Middle School. Check-in begins at 11:30 a.m. on the CWU Student Union and Recreation Center (SURC) East Patio\, with the race starting at 1 p.m. Registration is $12\, available online at www.cwu.edu/tickets and covers the race\, a t-shirt and free food for the runners/walkers. All proceeds will go to the Morgan Middle School PE Department to purchase new equipment. For more information contact the CWU Center for Leadership and Community Engagement at 509-963-1850 or clce@cwu.edu. 
LOCATION:SURC East Patio
UID:e.40.10305
SEQUENCE:3
DTSTAMP:20260422T090122Z
URL:http://business.kittitascountychamber.com/events/details/5k-run-for-morgan-middle-school-05-19-2013-10305
END:VEVENT

END:VCALENDAR
