BEGIN:VCALENDAR
VERSION:2.0
PRODID:-//ChamberMaster//Event Calendar 2.0//EN
METHOD:PUBLISH
X-PUBLISHED-TTL:P3D
REFRESH-INTERVAL:P3D
CALSCALE:GREGORIAN
BEGIN:VEVENT
DTSTART:20140302T020000Z
DTEND:20140302T060000Z
X-MICROSOFT-CDO-ALLDAYEVENT:FALSE
SUMMARY:7th Annual Concert for a Cure
DESCRIPTION:The 7th Annual Concert for a Cure - Featuring Classic Rock Cover Band "Roadfever" with opening act....Rusty Cage which is a Johnny Cash Tribute Band.\n\nThis is a Relay for Life - Kittitas County Fundraiser brought to you by the CWU Chemistry Club & Papa Murphy's Knock Out Cancer.....
X-ALT-DESC;FMTTYPE=text/html:The 7th Annual Concert for a Cure - Featuring Classic Rock Cover Band &quot\;Roadfever&quot\; with opening act....Rusty Cage which is a Johnny Cash Tribute Band.<br />\nThis is a Relay for Life - Kittitas County Fundraiser brought to&nbsp\;you by the CWU Chemistry Club &amp\; Papa Murphy&#39\;s Knock Out Cancer.....
LOCATION:Moose Lodge #494 206 N. Main Street
UID:e.40.10995
SEQUENCE:3
DTSTAMP:20260419T161604Z
URL:http://business.kittitascountychamber.com/events/details/7th-annual-concert-for-a-cure-03-01-2014-10995
END:VEVENT

END:VCALENDAR
