BEGIN:VCALENDAR
VERSION:2.0
PRODID:-//ChamberMaster//Event Calendar 2.0//EN
METHOD:PUBLISH
X-PUBLISHED-TTL:P3D
REFRESH-INTERVAL:P3D
CALSCALE:GREGORIAN
BEGIN:VEVENT
DTSTART:20140222T230000Z
DTEND:20140223T010000Z
X-MICROSOFT-CDO-ALLDAYEVENT:FALSE
SUMMARY:A Living Wage: Community Forum
DESCRIPTION:A community forum on A Living Wage will be held at 3 p.m.\, Saturday\, Feb. 22 in the Social Hall of the First United Methodist Church.  The public is invited\; admission is free.  Two economists\, David Hedrick\, Professor of Economics at CWU and Richard Mack\, Professor Emeritus of Economics\, CWU\, will speak to such questions as\, what is a living wage\, what would be its economic impact\, and should the minimum wage be a living wage.
X-ALT-DESC;FMTTYPE=text/html:A community forum on A Living Wage will be held at 3 p.m.\, Saturday\, Feb. 22 in the Social Hall of the First United Methodist Church. &nbsp\;The public is invited\; admission is free. &nbsp\;Two economists\, David Hedrick\, Professor of Economics at CWU and Richard Mack\, Professor Emeritus of Economics\, CWU\, will speak to such questions as\, what is a living wage\, what would be its economic impact\, and should the minimum wage be a living wage.
LOCATION:Ellensburg United Methodist Church 210 N. Ruby
UID:e.40.10993
SEQUENCE:3
DTSTAMP:20260419T175251Z
URL:http://business.kittitascountychamber.com/events/details/a-living-wage-community-forum-02-22-2014-10993
END:VEVENT

END:VCALENDAR
