BEGIN:VCALENDAR
VERSION:2.0
PRODID:-//ChamberMaster//Event Calendar 2.0//EN
METHOD:PUBLISH
X-PUBLISHED-TTL:P3D
REFRESH-INTERVAL:P3D
CALSCALE:GREGORIAN
BEGIN:VEVENT
DTSTART:20140315T020000Z
DTEND:20140315T040000Z
X-MICROSOFT-CDO-ALLDAYEVENT:FALSE
SUMMARY:"A Wintry Mix"
DESCRIPTION:Sparrow Singers will perform a concert at Gallery One for the benefit of six families in Kittitas County with children in medical need (Sparrows). Music will range from American folk songs to traditional European music\, including a piece in Russian. Light refreshments and no-host bar following the performance.
X-ALT-DESC;FMTTYPE=text/html:Sparrow Singers will perform a concert at Gallery One for the benefit of six families in Kittitas County with children in medical need (Sparrows). Music will range from American folk songs to traditional European music\, including a piece in Russian. Light refreshments and no-host bar following the performance.
LOCATION:Gallery One\, downtown Ellensburg (408 N Pearl Street)
UID:e.40.11175
SEQUENCE:3
DTSTAMP:20260419T161029Z
URL:http://business.kittitascountychamber.com/events/details/a-wintry-mix-03-14-2014-11175
END:VEVENT

END:VCALENDAR
