BEGIN:VCALENDAR
VERSION:2.0
PRODID:-//ChamberMaster//Event Calendar 2.0//EN
METHOD:PUBLISH
X-PUBLISHED-TTL:P3D
REFRESH-INTERVAL:P3D
CALSCALE:GREGORIAN
BEGIN:VEVENT
DTSTART:20140209T190000Z
DTEND:20140210T020000Z
X-MICROSOFT-CDO-ALLDAYEVENT:FALSE
SUMMARY:Aaron Harrison Memorial Powerlifting Competition
DESCRIPTION:Aspiring and amateur power lifters both are encouraged to come test out their strength at the Aaron Harrison Memorial Powerlifting Competition Sunday\, Feb. 9 from 11 a.m. to 6 p.m. in the Recreation Center Weight Room. A $25 entry fee and registration forms are due to the CWU Recreation Center front desk by 5 p.m. Wednesday\, Feb. 4. The competition will consist of a dead lift and bench press in several weight classes. Winners will be awarded based on weight class. A non-denominational memorial service for departed University Recreation employee and CWU student Aaron Harrison will be held at 10 a.m. on the morning of the competition\, where friends and family will share remembrances. This event is sponsored by University Recreation. For more information contact Eric Scott at scotter@cwu.edu.
X-ALT-DESC;FMTTYPE=text/html:Aspiring and amateur power lifters both are encouraged to come test out their strength at the Aaron Harrison Memorial Powerlifting Competition Sunday\, Feb. 9 from 11 a.m. to 6 p.m. in the Recreation Center Weight Room. A $25 entry fee and registration forms are due to the CWU Recreation Center front desk by 5 p.m. Wednesday\, Feb. 4. The competition will consist of a dead lift and bench press in several weight classes.&nbsp\;Winners will be awarded based on weight class. A non-denominational memorial service for departed University Recreation employee and CWU student Aaron Harrison will be held at 10 a.m. on the morning of the competition\, where friends and family will share remembrances. This event is sponsored by University Recreation. For more information contact Eric Scott at scotter@cwu.edu. 
LOCATION:CWU Recreation Center Weight Room.
UID:e.40.10920
SEQUENCE:3
DTSTAMP:20260419T175143Z
URL:http://business.kittitascountychamber.com/events/details/aaron-harrison-memorial-powerlifting-competition-02-09-2014-10920
END:VEVENT

END:VCALENDAR
