BEGIN:VCALENDAR
VERSION:2.0
PRODID:-//ChamberMaster//Event Calendar 2.0//EN
METHOD:PUBLISH
X-PUBLISHED-TTL:P3D
REFRESH-INTERVAL:P3D
CALSCALE:GREGORIAN
BEGIN:VEVENT
DTSTART:20130919T230000Z
DTEND:20130920T020000Z
X-MICROSOFT-CDO-ALLDAYEVENT:FALSE
SUMMARY:Abadan 60th Anniversary
DESCRIPTION:1953 - 2013 Remember the good old days?   We were there!\n\nJoin us in celebrating Abadan's 60th Anniversary Open House\n\nDon't miss the refreshments\, raffles and goodie bags at this special event.  We can't wait to celebrate our history with you!
X-ALT-DESC;FMTTYPE=text/html:1953 - 2013 Remember the good old days?&nbsp\;&nbsp\; We were there!<br />\nJoin us in celebrating Abadan&#39\;s 60th Anniversary Open House<br />\nDon&#39\;t miss the refreshments\, raffles and goodie bags at this special event.&nbsp\; We can&#39\;t wait to celebrate our history with you!
LOCATION:79 Aaron Dr. Richland\, WA
UID:e.40.10649
SEQUENCE:3
DTSTAMP:20260420T020034Z
URL:http://business.kittitascountychamber.com/events/details/abadan-60th-anniversary-09-19-2013-10649
END:VEVENT

END:VCALENDAR
