BEGIN:VCALENDAR
VERSION:2.0
PRODID:-//ChamberMaster//Event Calendar 2.0//EN
METHOD:PUBLISH
X-PUBLISHED-TTL:P3D
REFRESH-INTERVAL:P3D
CALSCALE:GREGORIAN
BEGIN:VEVENT
DTSTART;VALUE=DATE:20190727
DTEND;VALUE=DATE:20190729
TRANSP:TRANSPARENT
X-MICROSOFT-CDO-ALLDAYEVENT:TRUE
SUMMARY:Above & Beyond
DESCRIPTION:Musical concert by Above & Beyond
X-ALT-DESC;FMTTYPE=text/html:Musical concert by Above &amp\; Beyond
LOCATION:The Gorge Amphitheatre
UID:e.40.25829
SEQUENCE:3
DTSTAMP:20260421T131424Z
URL:http://business.kittitascountychamber.com/events/details/above-beyond-25829
END:VEVENT

END:VCALENDAR
