BEGIN:VCALENDAR
VERSION:2.0
PRODID:-//ChamberMaster//Event Calendar 2.0//EN
METHOD:PUBLISH
X-PUBLISHED-TTL:P3D
REFRESH-INTERVAL:P3D
CALSCALE:GREGORIAN
BEGIN:VEVENT
DTSTART:20131017T200000Z
DTEND:20131017T220000Z
X-MICROSOFT-CDO-ALLDAYEVENT:FALSE
SUMMARY:Adverse Childhood Experience Presentation
DESCRIPTION:The ACE Study provides powerful insight into the relationship between the number of adverse experiences children have\, brain development\, and long term physical & mental health. Register Now! http://www.surveymonkey.com/s/JRZRM8W October 17\, 2013\, 1-3pm Work Source Classroom 309 E Mountain View Ave\, Ellensburg CEUs Available
X-ALT-DESC;FMTTYPE=text/html:The ACE Study provides powerful insight into the relationship between the number of adverse experiences children have\, brain development\, and long term physical &amp\; mental health. Register Now! http://www.surveymonkey.com/s/JRZRM8W October 17\, 2013\, 1-3pm Work Source Classroom 309 E Mountain View Ave\, Ellensburg CEUs Available 
LOCATION:Work Source Classroom 309 E Mountain View Ave\, Ellensburg
UID:e.40.10749
SEQUENCE:3
DTSTAMP:20260420T003107Z
URL:http://business.kittitascountychamber.com/events/details/adverse-childhood-experience-presentation-10-17-2013-10749
END:VEVENT

END:VCALENDAR
