BEGIN:VCALENDAR
VERSION:2.0
PRODID:-//ChamberMaster//Event Calendar 2.0//EN
METHOD:PUBLISH
X-PUBLISHED-TTL:P3D
REFRESH-INTERVAL:P3D
CALSCALE:GREGORIAN
BEGIN:VEVENT
DTSTART:20130328T170000Z
DTEND:20130414T220000Z
X-MICROSOFT-CDO-ALLDAYEVENT:FALSE
SUMMARY:Andy Behrle - fluidity
DESCRIPTION:Whether in the form of light projecting through moving water\, or layers of mud being washed from a wall\, Andy Behrle's work reflects upon the dichotomies of our existence.  Behrle received MFA in sculpture from Arizona State University in 2003.  In 2012 he was selected for inclusion in ArtPrize 2012 in Grand Rapids\, Michigan\, and was as artist - in - residence at A Studio in the Woods in New Orleans\, Louisiana.  He recently  moved to Zillah\, Washington.\n\n\n\n Admission is Free and open hours are weekdays 10am -3pm and on Weekends 1-4 pm  Sarah Spurgeon Gallery \, Randall Hall CWU Campus
X-ALT-DESC;FMTTYPE=text/html:Whether in the form of light projecting through moving water\, or layers of mud being washed from a wall\, Andy Behrle&#39\;s work reflects upon the dichotomies of our existence.&nbsp\; Behrle received MFA in sculpture from Arizona State University in 2003.&nbsp\; In 2012 he was selected for inclusion in ArtPrize 2012 in Grand Rapids\, Michigan\, and was as artist - in - residence at A Studio in the Woods in New Orleans\, Louisiana.&nbsp\; He recently&nbsp\; moved to Zillah\, Washington.<br />\n<br />\n&nbsp\;Admission is Free and open hours are weekdays 10am -3pm and on Weekends 1-4 pm&nbsp\; Sarah Spurgeon Gallery \, Randall Hall CWU Campus<br />\n
LOCATION:Sarah Spurgeon Gallery\, Randall Hall\, CWU Campus
UID:e.40.10121
SEQUENCE:3
DTSTAMP:20260420T113635Z
URL:http://business.kittitascountychamber.com/events/details/andy-behrle-fluidity-03-28-2013-10121
END:VEVENT

END:VCALENDAR
