BEGIN:VCALENDAR
VERSION:2.0
PRODID:-//ChamberMaster//Event Calendar 2.0//EN
METHOD:PUBLISH
X-PUBLISHED-TTL:P3D
REFRESH-INTERVAL:P3D
CALSCALE:GREGORIAN
BEGIN:VEVENT
DTSTART;VALUE=DATE:20130202
DTEND;VALUE=DATE:20130203
TRANSP:TRANSPARENT
X-MICROSOFT-CDO-ALLDAYEVENT:TRUE
SUMMARY:Annual Snowmobile Raffle Run
DESCRIPTION:ANNUAL SNOWMOBILE RAFFLE RUN!\n\n	Presented by:  Uppper Kittitas County Rotary and I-90 Motorsports\n\n	When:  Saturday\, February 2nd\, 2013\n\n	Where:  The Last Resort in Ronald\n\n	Time:  Registration starts at 9:00 am\n\n	First riders out at 10:00am     Last riders out at 11:30am\n\n	Registration and 5 tickets for $20  -  prior to the event available at: www.brownpapertickets.com\n\n	GRAND PRIZE:  $1\,000 VISA Gift Card\n\n	2nd Place:  $750 VISA Gift Card\n\n	3rd Place:  $500 Gift Certificate + Surprise\n\n	Proceeds to benefit: Parks & Recreation and Upper Kittitas County Youth!
X-ALT-DESC;FMTTYPE=text/html:<p>\n	<span style="font-size: 10pt\;">ANNUAL SNOWMOBILE RAFFLE RUN!</span></p>\n<p>\n	Presented by:&nbsp\; Uppper Kittitas County Rotary and I-90 Motorsports</p>\n<p>\n	When:&nbsp\; Saturday\, February 2nd\, 2013<br />\n	Where:&nbsp\; The Last Resort in Ronald<br />\n	Time:&nbsp\; Registration starts at 9:00 am</p>\n<p>\n	First riders out at 10:00am&nbsp\;&nbsp\;&nbsp\;&nbsp\; Last riders out at 11:30am</p>\n<p>\n	Registration and 5 tickets for $20&nbsp\; -&nbsp\; prior to the event available at: <a href="http://www.brownpapertickets.com/">www.brownpapertickets.com</a></p>\n<p>\n	<span style="font-size: 10pt\;"><strong>GRAND PRIZE:&nbsp\; $1\,000 VISA Gift Card</strong></span></p>\n<p>\n	<span style="font-size: 10pt\;"><strong>2nd Place:&nbsp\; $750 VISA Gift Card</strong></span></p>\n<p>\n	<span style="font-size: 10pt\;"><strong>3rd Place:&nbsp\; $500 Gift Certificate + Surprise</strong></span></p>\n<p>\n	Proceeds to benefit: Parks &amp\; Recreation and Upper Kittitas County Youth!</p>\n
LOCATION:The Last Resort\, Ronald WA
UID:e.40.9226
SEQUENCE:3
DTSTAMP:20260420T143749Z
URL:http://business.kittitascountychamber.com/events/details/annual-snowmobile-raffle-run-02-02-2013-9226
END:VEVENT

END:VCALENDAR
