BEGIN:VCALENDAR
VERSION:2.0
PRODID:-//ChamberMaster//Event Calendar 2.0//EN
METHOD:PUBLISH
X-PUBLISHED-TTL:P3D
REFRESH-INTERVAL:P3D
CALSCALE:GREGORIAN
BEGIN:VEVENT
DTSTART:20140524T210000Z
DTEND:20140525T050000Z
X-MICROSOFT-CDO-ALLDAYEVENT:FALSE
SUMMARY:Annual Thorp Mill Dinner and Auction
DESCRIPTION:The Thorp Mill's annual dinner and auction kicks off with tours at the Mill from 2 to 4 p.m. Doors open at the Party Barn at 3:30 p.m. with a silent auction\, wine and beer bar\, entertainment\, and a live auction. This is a must-attend with the wonderful grilled Party Barn dinner!
X-ALT-DESC;FMTTYPE=text/html:The Thorp Mill&#39\;s annual dinner and auction kicks off with tours at the Mill from 2 to 4 p.m. Doors open at the Party Barn at 3:30 p.m. with a silent auction\, wine and beer bar\, entertainment\, and a live auction. This is a must-attend with the wonderful grilled Party Barn dinner!
LOCATION:Springwood Ranch Party Barn\, Thorp
UID:e.40.11287
SEQUENCE:3
DTSTAMP:20260419T125907Z
URL:http://business.kittitascountychamber.com/events/details/annual-thorp-mill-dinner-and-auction-05-24-2014-11287
END:VEVENT

END:VCALENDAR
