BEGIN:VCALENDAR
VERSION:2.0
PRODID:-//ChamberMaster//Event Calendar 2.0//EN
METHOD:PUBLISH
X-PUBLISHED-TTL:P3D
REFRESH-INTERVAL:P3D
CALSCALE:GREGORIAN
BEGIN:VEVENT
DTSTART:20140207T220000Z
DTEND:20140209T020000Z
X-MICROSOFT-CDO-ALLDAYEVENT:FALSE
SUMMARY:"Anonymous People" Film Screening
DESCRIPTION:The CWU Wellness Center will host a special screening of the documentary film ?Anonymous People? Friday\, Feb. 7 and Saturday\, Feb. 8 at 2 and 6 p.m. in the SURC Theatre.  This documentary film identifies and challenges the way addiction has been treated by society. 23.5 million Americans are living in long-term recovery from addiction to alcohol and other drugs. Deeply entrenched social stigma and discrimination have kept recovery voices silent and faces hidden for decades. ?Anonymous People? tells the story of addiction through the eyes of those who have experienced it first hand.  Don?t miss the opportunity to educate yourself on a significant issue and break the stereotype of what addiction looks like.  For more information call the Wellness Center at 509-963-3213 or email wellness@cwu.edu.
X-ALT-DESC;FMTTYPE=text/html:The CWU Wellness Center will host a special screening of the documentary film ?Anonymous People? Friday\, Feb. 7 and Saturday\, Feb. 8 at 2 and 6 p.m. in the SURC Theatre.&nbsp\; This documentary film identifies and challenges the way addiction has been treated by society. 23.5 million Americans are living in long-term recovery from addiction to alcohol and other drugs. Deeply entrenched social stigma and discrimination have kept recovery voices silent and faces hidden for decades. ?Anonymous People? tells the story of addiction through the eyes of those who have experienced it first hand.&nbsp\; Don?t miss the opportunity to educate yourself on a significant issue and break the stereotype of what addiction looks like.&nbsp\; For more information call the Wellness Center at 509-963-3213 or email wellness@cwu.edu. 
LOCATION:SURC Theatre
UID:e.40.10961
SEQUENCE:3
DTSTAMP:20260419T175040Z
URL:http://business.kittitascountychamber.com/events/details/anonymous-people-film-screening-02-07-2014-10961
END:VEVENT

END:VCALENDAR
