BEGIN:VCALENDAR
VERSION:2.0
PRODID:-//ChamberMaster//Event Calendar 2.0//EN
METHOD:PUBLISH
X-PUBLISHED-TTL:P3D
REFRESH-INTERVAL:P3D
CALSCALE:GREGORIAN
BEGIN:VEVENT
DTSTART:20130409T190000Z
DTEND:20130409T190000Z
X-MICROSOFT-CDO-ALLDAYEVENT:FALSE
SUMMARY:April YouTube Comedy Series
DESCRIPTION:Campus Activities is going viral with its YouTube Comedy Series every Tuesday\, throughout the month of April\, from 6 to 8 p.m. in the Student Union and Recreation Center (SURC) Pit. Admission is free and open to the public. Attendees should prepare themselves to laugh\, because each night will feature a different theme with two hours of the funniest YouTube videos. Themes are: April 9 sports\, April 16 politics and celebrities\, April 23 animals and April 30 pranks. Campus Activities is also encouraging everyone to scour the depths of YouTube for funny videos they would like to share. Attendees can submit suggestions for videos at the event or on the Campus Activities Facebook page (https://www.facebook.com/pages/CWU-Campus-Activities/192177852201). For more information call 509-963-1450.
X-ALT-DESC;FMTTYPE=text/html:Campus Activities is going viral with its YouTube Comedy Series every Tuesday\, throughout the month of April\, from 6 to 8 p.m. in the Student Union and Recreation Center (SURC) Pit. Admission is free and open to the public. Attendees should prepare themselves to laugh\, because each night will feature a different theme with two hours of the funniest YouTube videos. Themes are: April 9 sports\, April 16 politics and celebrities\, April 23 animals and April 30 pranks. Campus Activities is also encouraging everyone to scour the depths of YouTube for funny videos they would like to share. Attendees can submit suggestions for videos at the event or on the Campus Activities Facebook page (https://www.facebook.com/pages/CWU-Campus-Activities/192177852201). For more information call 509-963-1450. 
LOCATION:SURC Pit
UID:e.40.10114
SEQUENCE:3
DTSTAMP:20260420T100309Z
URL:http://business.kittitascountychamber.com/events/details/april-youtube-comedy-series-04-09-2013-10114
END:VEVENT

END:VCALENDAR
