BEGIN:VCALENDAR
VERSION:2.0
PRODID:-//ChamberMaster//Event Calendar 2.0//EN
METHOD:PUBLISH
X-PUBLISHED-TTL:P3D
REFRESH-INTERVAL:P3D
CALSCALE:GREGORIAN
BEGIN:VEVENT
DTSTART:20130819T160000Z
DTEND:20130823T220000Z
X-MICROSOFT-CDO-ALLDAYEVENT:FALSE
SUMMARY:Architecture
DESCRIPTION:From Gehry to Bauhaus and beyond\, this class will explore perspective drawing and allow you to design and construct your own architectural model.\n\n\n\n\n\nGeneral   Information:  Join us for these fun summer art camps for kids.  They're a Gallery One tradition.  Get out of the heat this simmer and make art with us.  Each camp has a theme and includes breaks for lunch and games.
X-ALT-DESC;FMTTYPE=text/html:From Gehry to Bauhaus and beyond\, this class will explore perspective drawing and allow you to design and construct your own architectural model.<br />\n<br />\n<br />\n<span style="color: #ff0000">General &nbsp\;&nbsp\;Information:&nbsp\; </span>Join us for these fun summer art camps for kids.&nbsp\; They&#39\;re a Gallery One tradition.&nbsp\; Get out of the heat this simmer and make art with us.&nbsp\; Each camp has a theme and includes breaks for lunch and games. 
LOCATION:Gallery One 408 N. Pearl St
UID:e.40.10280
SEQUENCE:3
DTSTAMP:20260420T032536Z
URL:http://business.kittitascountychamber.com/events/details/architecture-08-19-2013-10280
END:VEVENT

END:VCALENDAR
