BEGIN:VCALENDAR
VERSION:2.0
PRODID:-//ChamberMaster//Event Calendar 2.0//EN
METHOD:PUBLISH
X-PUBLISHED-TTL:P3D
REFRESH-INTERVAL:P3D
CALSCALE:GREGORIAN
BEGIN:VEVENT
DTSTART:20130617T160000Z
DTEND:20130621T190000Z
X-MICROSOFT-CDO-ALLDAYEVENT:FALSE
SUMMARY:Art Exploration for Teens with Special Needs
DESCRIPTION:Get ready to make some beautiful art and fun memories!  In this camp students will investigate many different techniques in art.\n\n\n\nGeneral Information:  Join us for these fun summer art camps for kids.  They're a Gallery One tradition.  Get out of the heat this simmer and make art with us.  Each camp has a theme and includes breaks for lunch and games.
X-ALT-DESC;FMTTYPE=text/html:Get ready to make some beautiful art and fun memories!&nbsp\; In this camp students will investigate many different techniques in art.<br />\n<br />\n<span style="color: #ff0000">General Information:&nbsp\; </span>Join us for these fun summer art camps for kids.&nbsp\; They&#39\;re a Gallery One tradition.&nbsp\; Get out of the heat this simmer and make art with us.&nbsp\; Each camp has a theme and includes breaks for lunch and games.
LOCATION:Gallery One 408 N. Pearl St
UID:e.40.10275
SEQUENCE:3
DTSTAMP:20260420T064735Z
URL:http://business.kittitascountychamber.com/events/details/art-exploration-for-teens-with-special-needs-06-17-2013-10275
END:VEVENT

END:VCALENDAR
