BEGIN:VCALENDAR
VERSION:2.0
PRODID:-//ChamberMaster//Event Calendar 2.0//EN
METHOD:PUBLISH
X-PUBLISHED-TTL:P3D
REFRESH-INTERVAL:P3D
CALSCALE:GREGORIAN
BEGIN:VEVENT
DTSTART:20130110T000000Z
DTEND:20130110T010000Z
X-MICROSOFT-CDO-ALLDAYEVENT:FALSE
SUMMARY:Artist Lecture\, Nickolus Meisel
DESCRIPTION:Nickolus Meisel is Assistant Professor of sculpture and installation art in the Washington State University Department of Fine Arts. For the Yakima River Diaries exhibit in the Sarah Spurgeon Gallery he will create an installation piece in collaboration with CWU Department of Art students. www.nickolusmeisel.com
X-ALT-DESC;FMTTYPE=text/html:Nickolus Meisel is Assistant Professor of sculpture and installation art in the Washington State University Department of Fine Arts. For the Yakima River Diaries exhibit in the Sarah Spurgeon Gallery he will create an installation piece in collaboration with CWU Department of Art students. www.nickolusmeisel.com
LOCATION:CWU Sarah Spurgeon Gallery\, Randall Hall\, Rm. 117
UID:e.40.9205
SEQUENCE:3
DTSTAMP:20260420T163803Z
URL:http://business.kittitascountychamber.com/events/details/artist-lecture-nickolus-meisel-01-09-2013-9205
END:VEVENT

END:VCALENDAR
