BEGIN:VCALENDAR
VERSION:2.0
PRODID:-//ChamberMaster//Event Calendar 2.0//EN
METHOD:PUBLISH
X-PUBLISHED-TTL:P3D
REFRESH-INTERVAL:P3D
CALSCALE:GREGORIAN
BEGIN:VEVENT
DTSTART:20130328T230000Z
DTEND:20130329T000000Z
X-MICROSOFT-CDO-ALLDAYEVENT:FALSE
SUMMARY:Artist Talk: Andy Behrle
DESCRIPTION:Whether in the form of light projecting through moving water\, or layers of mud being washed from a wall\, Andy Behrle's work reflects upon the dichotomies of our existence. Behrle received his M.F.A. in sculpture from Arizona State University in 2003. In 2012 he was selected for inclusion in ArtPrize 2012 in Grand Rapids\, Michigan\, and was an artist-in-residence at A Studio in the Woods in New Orleans\, Louisiana. He recently moved to Zillah\, Washington.
X-ALT-DESC;FMTTYPE=text/html:Whether in the form of light projecting through moving water\, or layers of mud being washed from a wall\, Andy Behrle&rsquo\;s work reflects upon the dichotomies of our existence. Behrle received his M.F.A. in sculpture from Arizona State University in 2003. In 2012 he was selected for inclusion in ArtPrize 2012 in Grand Rapids\, Michigan\, and was an artist-in-residence at A Studio in the Woods in New Orleans\, Louisiana. He recently moved to Zillah\, Washington.
LOCATION:CWU Sarah Spurgeon Gallery\, Randall Hall\, Rm. 117
UID:e.40.10088
SEQUENCE:3
DTSTAMP:20260420T130947Z
URL:http://business.kittitascountychamber.com/events/details/artist-talk-andy-behrle-03-28-2013-10088
END:VEVENT

END:VCALENDAR
