BEGIN:VCALENDAR
VERSION:2.0
PRODID:-//ChamberMaster//Event Calendar 2.0//EN
METHOD:PUBLISH
X-PUBLISHED-TTL:P3D
REFRESH-INTERVAL:P3D
CALSCALE:GREGORIAN
BEGIN:VEVENT
DTSTART:20131108T000000Z
DTEND:20131108T010000Z
X-MICROSOFT-CDO-ALLDAYEVENT:FALSE
SUMMARY:Artist Talk: David Brody
DESCRIPTION:Artist talk by David Brody\, who has been a Professor of Painting and Drawing at the University of Washington since 1996.
X-ALT-DESC;FMTTYPE=text/html:Artist talk by David Brody\, who has been a Professor of Painting and Drawing at the University of Washington since 1996. &nbsp\;
LOCATION:CWU Sarah Spurgeon Gallery Randall Hall on Dean Nicholson Blvd. Room 117
UID:e.40.10674
SEQUENCE:3
DTSTAMP:20260419T225207Z
URL:http://business.kittitascountychamber.com/events/details/artist-talk-david-brody-11-07-2013-10674
END:VEVENT

END:VCALENDAR
