BEGIN:VCALENDAR
VERSION:2.0
PRODID:-//ChamberMaster//Event Calendar 2.0//EN
METHOD:PUBLISH
X-PUBLISHED-TTL:P3D
REFRESH-INTERVAL:P3D
CALSCALE:GREGORIAN
BEGIN:VEVENT
DTSTART:20131002T230000Z
DTEND:20131003T000000Z
X-MICROSOFT-CDO-ALLDAYEVENT:FALSE
SUMMARY:Artist Talk: Gerri Sayler
DESCRIPTION:Gerri Sayler is a sculptor and mixed-media artist living in Moscow\, Idaho. She will discuss her recent work including Numinous\, a site-specific exhibit on view in the CWU Sarah Spurgeon Gallery.
X-ALT-DESC;FMTTYPE=text/html:Gerri Sayler is a sculptor and mixed-media artist living in Moscow\, Idaho. She will discuss her recent work including Numinous\, a site-specific exhibit on view in the CWU Sarah Spurgeon Gallery.
LOCATION:CWU Sarah Spurgeon Gallery Randall Hall on Dean Nicholson Blvd. Room 117
UID:e.40.10672
SEQUENCE:3
DTSTAMP:20260420T003253Z
URL:http://business.kittitascountychamber.com/events/details/artist-talk-gerri-sayler-10-02-2013-10672
END:VEVENT

END:VCALENDAR
