BEGIN:VCALENDAR
VERSION:2.0
PRODID:-//ChamberMaster//Event Calendar 2.0//EN
METHOD:PUBLISH
X-PUBLISHED-TTL:P3D
REFRESH-INTERVAL:P3D
CALSCALE:GREGORIAN
BEGIN:VEVENT
DTSTART:20120921T000000Z
DTEND:20120921T020000Z
X-MICROSOFT-CDO-ALLDAYEVENT:FALSE
SUMMARY:BAH September Gallery One and EFF 9/20/12
DESCRIPTION:
X-ALT-DESC;FMTTYPE=text/html:
LOCATION:
UID:e.40.8399
SEQUENCE:3
DTSTAMP:20260420T235525Z
URL:http://business.kittitascountychamber.com/events/details/bah-september-gallery-one-and-eff-9-20-12-09-20-2012-8399
END:VEVENT

END:VCALENDAR
