BEGIN:VCALENDAR
VERSION:2.0
PRODID:-//ChamberMaster//Event Calendar 2.0//EN
METHOD:PUBLISH
X-PUBLISHED-TTL:P3D
REFRESH-INTERVAL:P3D
CALSCALE:GREGORIAN
BEGIN:VEVENT
DTSTART:20130518T010000Z
DTEND:20130518T040000Z
X-MICROSOFT-CDO-ALLDAYEVENT:FALSE
SUMMARY:Balloon Stompin'
DESCRIPTION:The CWU Center for Leadership and Community Engagement (CLCE) is hoping to raise money for Youth Services of Kittitas County at its Balloon Stompin? event Friday\, May 17 at 6 p.m. in the Nicholson Pavilion Upper Gym. Admission is $3 and open to the public. As the name suggests\, this event is all about stomping on balloons. Once participants have balloons fastened to each of their ankles\, they will do their best to pop their competitor?s balloons while keeping their own inflated. Once both balloons are popped\, they are out of the game\, but they?ll be able to enjoy an assortment of free feed and other balloon-incorporated games. For more information\, contact Clark Wentworth at 509-963-1850 or clce@cwu.edu.
X-ALT-DESC;FMTTYPE=text/html:The CWU Center for Leadership and Community Engagement (CLCE) is hoping to raise money for Youth Services of Kittitas County at its Balloon Stompin? event Friday\, May 17 at 6 p.m. in the Nicholson Pavilion Upper Gym. Admission is $3 and open to the public. As the name suggests\, this event is all about stomping on balloons. Once participants have balloons fastened to each of their ankles\, they will do their best to pop their competitor?s balloons while keeping their own inflated. Once both balloons are popped\, they are out of the game\, but they?ll be able to enjoy an assortment of free feed and other balloon-incorporated games. For more information\, contact Clark Wentworth at 509-963-1850 or clce@cwu.edu. 
LOCATION:Nicholson Pavilion
UID:e.40.10306
SEQUENCE:3
DTSTAMP:20260420T083253Z
URL:http://business.kittitascountychamber.com/events/details/balloon-stompin-05-17-2013-10306
END:VEVENT

END:VCALENDAR
