BEGIN:VCALENDAR
VERSION:2.0
PRODID:-//ChamberMaster//Event Calendar 2.0//EN
METHOD:PUBLISH
X-PUBLISHED-TTL:P3D
REFRESH-INTERVAL:P3D
CALSCALE:GREGORIAN
BEGIN:VEVENT
DTSTART:20140518T013000Z
DTEND:20140518T033000Z
X-MICROSOFT-CDO-ALLDAYEVENT:FALSE
SUMMARY:Bares & Broncs
DESCRIPTION:Located in the Ellensburg Rodeo Area\n\n\n\nGeneral Admission tickers: $10.00 at the gate\n\n\n\n$8.00 presale at sponsor locations\n\n\n\nConcessions with Cascade Mountain Grilling\n\n\n\nBehind the Chutes beer garden sponsored by Iron Horse Brewery\n\n\n\nLive  Music!
X-ALT-DESC;FMTTYPE=text/html:Located in the Ellensburg Rodeo Area<br />\n<br />\nGeneral Admission tickers: $10.00 at the gate<br />\n<br />\n$8.00 presale at sponsor locations<br />\n<br />\nConcessions with Cascade Mountain Grilling<br />\n<br />\nBehind the Chutes beer garden sponsored by Iron Horse Brewery<br />\n<br />\nLive &nbsp\;Music!
LOCATION:Ellensburg Rodeo Arena
UID:e.40.10371
SEQUENCE:3
DTSTAMP:20260419T125627Z
URL:http://business.kittitascountychamber.com/events/details/bares-broncs-05-17-2014-10371
END:VEVENT

END:VCALENDAR
