BEGIN:VCALENDAR
VERSION:2.0
PRODID:-//ChamberMaster//Event Calendar 2.0//EN
METHOD:PUBLISH
X-PUBLISHED-TTL:P3D
REFRESH-INTERVAL:P3D
CALSCALE:GREGORIAN
BEGIN:VEVENT
DTSTART:20130519T013000Z
DTEND:20130519T050000Z
X-MICROSOFT-CDO-ALLDAYEVENT:FALSE
SUMMARY:Bares & Broncs - A Futurity Event
DESCRIPTION:Concessions with Cascade Mountain Grilling.\n	\n		Behind the Chutes beer garden sponsored by Iron Horse Brewery.\n	\n		Live Music With Massy Ferguson.
X-ALT-DESC;FMTTYPE=text/html:<div style="color: gray\;">\n	<br />\n	Concessions with Cascade Mountain Grilling.\n	<p>\n		Behind the Chutes beer garden sponsored by Iron Horse Brewery.</p>\n	<p>\n		Live Music With Massy Ferguson.</p>\n	<p>\n		<br />\n		&nbsp\;</p>\n</div>\n
LOCATION:Ellensburg Rodeo Arena
UID:e.40.10309
SEQUENCE:3
DTSTAMP:20260420T083304Z
URL:http://business.kittitascountychamber.com/events/details/bares-broncs-a-futurity-event-05-18-2013-10309
END:VEVENT

END:VCALENDAR
