BEGIN:VCALENDAR
VERSION:2.0
PRODID:-//ChamberMaster//Event Calendar 2.0//EN
METHOD:PUBLISH
X-PUBLISHED-TTL:P3D
REFRESH-INTERVAL:P3D
CALSCALE:GREGORIAN
BEGIN:VEVENT
DTSTART:20140424T010000Z
DTEND:20140424T030000Z
X-MICROSOFT-CDO-ALLDAYEVENT:FALSE
SUMMARY:Basic Computer Skills Class
DESCRIPTION:Ellensburg Community Schools Offers Basic Computer Skills -  Intended to meet the individual computing needs of those registered. From basic skills\, software\, internet\, office applications\, email and home networking April 23 & 30 (Wednesdays) 6pm - 8pm Pre-Register via online (http://calaway.net/ECS/)\, phone (509-925-8017)\, or form (http://community-schools.ellensburg.schoolfusion.us/modules/locker/files/group_files.phtml?parent=2729088&gid=511234&sessionid=6b10f5f60b9a3db93a547b40b7fe3d4a)
X-ALT-DESC;FMTTYPE=text/html:Ellensburg Community Schools Offers Basic Computer Skills -&nbsp\; Intended to meet the individual computing needs of those registered. From basic skills\, software\, internet\, office applications\, email and home networking April 23 &amp\; 30 (Wednesdays) 6pm - 8pm Pre-Register via online (http://calaway.net/ECS/)\, phone (509-925-8017)\, or form (http://community-schools.ellensburg.schoolfusion.us/modules/locker/files/group_files.phtml?parent=2729088&amp\;gid=511234&amp\;sessionid=6b10f5f60b9a3db93a547b40b7fe3d4a)
LOCATION:Ellensburg High School\, RM E126
UID:e.40.11351
SEQUENCE:3
DTSTAMP:20260419T143429Z
URL:http://business.kittitascountychamber.com/events/details/basic-computer-skills-class-04-23-2014-11351
END:VEVENT

END:VCALENDAR
