BEGIN:VCALENDAR
VERSION:2.0
PRODID:-//ChamberMaster//Event Calendar 2.0//EN
METHOD:PUBLISH
X-PUBLISHED-TTL:P3D
REFRESH-INTERVAL:P3D
CALSCALE:GREGORIAN
BEGIN:VEVENT
DTSTART:20130926T180000Z
DTEND:20130926T200000Z
X-MICROSOFT-CDO-ALLDAYEVENT:FALSE
SUMMARY:Beat the BUG- Flu Bug that is
DESCRIPTION:Stop by Mountain View Meadows  for your flu vaccine.  The vaccine will be administered by Downtown Pharmacy.\n\n\n\nFlu Shots will be available while supplies last.  The cost is $28.00 - method of payment  cash or checks no credit or debit cards accepted.
X-ALT-DESC;FMTTYPE=text/html:Stop by Mountain View Meadows&nbsp\; for your flu vaccine.&nbsp\; The vaccine will be administered by Downtown Pharmacy.<br />\n<br />\nFlu Shots will be available while supplies last.&nbsp\; The cost is $28.00 - method of payment&nbsp\; cash or checks no credit or debit cards accepted.
LOCATION:Mountain View Meadows 1008 E. Mountain View Avenue
UID:e.40.10663
SEQUENCE:3
DTSTAMP:20260420T015123Z
URL:http://business.kittitascountychamber.com/events/details/beat-the-bug-flu-bug-that-is-09-26-2013-10663
END:VEVENT

END:VCALENDAR
