BEGIN:VCALENDAR
VERSION:2.0
PRODID:-//ChamberMaster//Event Calendar 2.0//EN
METHOD:PUBLISH
X-PUBLISHED-TTL:P3D
REFRESH-INTERVAL:P3D
CALSCALE:GREGORIAN
BEGIN:VEVENT
DTSTART;VALUE=DATE:20190712
DTEND;VALUE=DATE:20190714
TRANSP:TRANSPARENT
X-MICROSOFT-CDO-ALLDAYEVENT:TRUE
SUMMARY:Beck/Cage the Elephant
DESCRIPTION:With special guests Spoon & StarCrawler
X-ALT-DESC;FMTTYPE=text/html:With special guests Spoon &amp\; StarCrawler
LOCATION:The Gorge Amphitheatre
UID:e.40.25828
SEQUENCE:3
DTSTAMP:20260421T131602Z
URL:http://business.kittitascountychamber.com/events/details/beck-cage-the-elephant-25828
END:VEVENT

END:VCALENDAR
