BEGIN:VCALENDAR
VERSION:2.0
PRODID:-//ChamberMaster//Event Calendar 2.0//EN
METHOD:PUBLISH
X-PUBLISHED-TTL:P3D
REFRESH-INTERVAL:P3D
CALSCALE:GREGORIAN
BEGIN:VEVENT
DTSTART:20130811T010000Z
DTEND:20130811T030000Z
X-MICROSOFT-CDO-ALLDAYEVENT:FALSE
SUMMARY:Beer Paired Dinner
DESCRIPTION:Please join Swiftwater Cellars\, August 10th\, as Executive Chef Mark Maccerola presents a Beer Paired Dinner! Seats are limited so make your reservations soon!
X-ALT-DESC;FMTTYPE=text/html:Please join Swiftwater Cellars\, August 10th\, as Executive Chef Mark Maccerola presents a Beer Paired Dinner! Seats are limited so make your reservations soon!
LOCATION:Swiftwater Cellars 301 Rope Rider Drive Cle Elum\, WA 98922
UID:e.40.10414
SEQUENCE:3
DTSTAMP:20260420T032709Z
URL:http://business.kittitascountychamber.com/events/details/beer-paired-dinner-08-10-2013-10414
END:VEVENT

END:VCALENDAR
