BEGIN:VCALENDAR
VERSION:2.0
PRODID:-//ChamberMaster//Event Calendar 2.0//EN
METHOD:PUBLISH
X-PUBLISHED-TTL:P3D
REFRESH-INTERVAL:P3D
CALSCALE:GREGORIAN
BEGIN:VEVENT
DTSTART:20140419T160000Z
DTEND:20140419T230000Z
X-MICROSOFT-CDO-ALLDAYEVENT:FALSE
SUMMARY:Beginning Drawing with Naomi Gray
DESCRIPTION:Discover the joy of drawing from life and photographs. Learn various techniques using charcoal\, brushes\, etc. Bring your favorite photos of landscapes\, animals or objects. All levels welcome. Preregistration is required.
X-ALT-DESC;FMTTYPE=text/html:Discover the joy of drawing from life and photographs. Learn various techniques using charcoal\, brushes\, etc. Bring your favorite photos of landscapes\, animals or objects. All levels welcome. Preregistration is required.
LOCATION:Gallery One\, 408 N Pearl Street
UID:e.40.11180
SEQUENCE:3
DTSTAMP:20260419T144002Z
URL:http://business.kittitascountychamber.com/events/details/beginning-drawing-with-naomi-gray-04-19-2014-11180
END:VEVENT

END:VCALENDAR
