BEGIN:VCALENDAR
VERSION:2.0
PRODID:-//ChamberMaster//Event Calendar 2.0//EN
METHOD:PUBLISH
X-PUBLISHED-TTL:P3D
REFRESH-INTERVAL:P3D
CALSCALE:GREGORIAN
BEGIN:VEVENT
DTSTART:20130205T230000Z
DTEND:20130206T000000Z
X-MICROSOFT-CDO-ALLDAYEVENT:FALSE
SUMMARY:Bite of Insight: Jessica Strawn
DESCRIPTION:Join the Center for Leadership and Civic Engagement (CLCE) for its free speaker series\, Bite of Insight. This series brings students\, faculty and staff up close and personal with guests who share their personal journeys\, including their struggles and triumphs. Oh\, and don't forget the treats. Inspiring stories are best heard with a side of cookies. Ever wanted to get inside the head of a criminologist? Then don't miss Tuesday\, Feb. 5 at 3 p.m. in the SURC Pit when Central's own Jessica Strawn shares her life's journey. A sociology and criminology professor\, Strawn is sure to inspire deep thoughts about the world. For more information\, please contact the CLCE at 509-963-1524 or cel@cwu.edu.
X-ALT-DESC;FMTTYPE=text/html:Join the Center for Leadership and Civic Engagement (CLCE) for its free speaker series\, Bite of Insight. This series brings students\, faculty and staff up close and personal with guests who share their personal journeys\, including their struggles and triumphs. Oh\, and don&rsquo\;t forget the treats. Inspiring stories are best heard with a side of cookies. Ever wanted to get inside the head of a criminologist? Then don&rsquo\;t miss Tuesday\, Feb. 5 at 3 p.m. in the SURC Pit when Central&rsquo\;s own Jessica Strawn shares her life&rsquo\;s journey. A sociology and criminology professor\, Strawn is sure to inspire deep thoughts about the world. For more information\, please contact the CLCE at 509-963-1524 or cel@cwu.edu.
LOCATION:CWU Student Union and Recreation Center (SURC) Pit
UID:e.40.9236
SEQUENCE:3
DTSTAMP:20260420T143840Z
URL:http://business.kittitascountychamber.com/events/details/bite-of-insight-jessica-strawn-02-05-2013-9236
END:VEVENT

END:VCALENDAR
