BEGIN:VCALENDAR
VERSION:2.0
PRODID:-//ChamberMaster//Event Calendar 2.0//EN
METHOD:PUBLISH
X-PUBLISHED-TTL:P3D
REFRESH-INTERVAL:P3D
CALSCALE:GREGORIAN
BEGIN:VEVENT
DTSTART:20130219T230000Z
DTEND:20130220T000000Z
X-MICROSOFT-CDO-ALLDAYEVENT:FALSE
SUMMARY:Bite of Insight: Judy Hennessy
DESCRIPTION:Join the Center for Leadership and Civic Engagement (CLCE) for its free speaker series\, Bite of Insight. This series brings students\, faculty and staff up close and personal with guests who share their personal journeys\, including their struggles and triumphs. Oh\, and don't forget the treats. Inspiring stories are best heard with a side of cookies. Whether or not you're familiar with the Sociology Department\, this next speaker should be on your radar. The SURC Pit welcomes everyone Tuesday\, Feb. 19 at 3 p.m. to hear Judy Hennessy\, a sociology professor specializing in gender and poverty. How did she get there? Come hear her story to find out! For more information\, please contact the CLCE at 509-963-1524 or cel@cwu.edu.
X-ALT-DESC;FMTTYPE=text/html:Join the Center for Leadership and Civic Engagement (CLCE) for its free speaker series\, Bite of Insight. This series brings students\, faculty and staff up close and personal with guests who share their personal journeys\, including their struggles and triumphs. Oh\, and don&rsquo\;t forget the treats. Inspiring stories are best heard with a side of cookies. Whether or not you&rsquo\;re familiar with the Sociology Department\, this next speaker should be on your radar. The SURC Pit welcomes everyone Tuesday\, Feb. 19 at 3 p.m. to hear Judy Hennessy\, a sociology professor specializing in gender and poverty. How did she get there? Come hear her story to find out! For more information\, please contact the CLCE at 509-963-1524 or cel@cwu.edu.
LOCATION:CWU Student Union and Recreation Center (SURC) Pit
UID:e.40.9237
SEQUENCE:3
DTSTAMP:20260420T143839Z
URL:http://business.kittitascountychamber.com/events/details/bite-of-insight-judy-hennessy-02-19-2013-9237
END:VEVENT

END:VCALENDAR
