BEGIN:VCALENDAR
VERSION:2.0
PRODID:-//ChamberMaster//Event Calendar 2.0//EN
METHOD:PUBLISH
X-PUBLISHED-TTL:P3D
REFRESH-INTERVAL:P3D
CALSCALE:GREGORIAN
BEGIN:VEVENT
DTSTART:20130707T180000Z
DTEND:20130707T180000Z
X-MICROSOFT-CDO-ALLDAYEVENT:FALSE
SUMMARY:Boccie Ball Tournament
DESCRIPTION:Come to the Boccie Ball Tournament as part of the 2013 Cle Elum Pioneer Days Event!\n\nBring your Boccie Balls and compete!\n\n\n\nLocated at the Cle Elum Memorial Ball field (across the river on left)\n\n\n\nRegistration is at 11:00am\n\n\n\nMen & Women categories \n\n\n\nEntry is $5.00 per person\n\n\n\nDouble Elimination\, depending on number of entrants
X-ALT-DESC;FMTTYPE=text/html:Come to the Boccie Ball Tournament as part of the 2013 Cle Elum Pioneer Days Event!<br />\nBring your Boccie Balls and compete!<br />\n<br />\nLocated at the Cle Elum Memorial Ball field (across the river on left)<br />\n<br />\nRegistration is at 11:00am<br />\n<br />\nMen &amp\; Women categories&nbsp\;<br />\n<br />\nEntry is $5.00 per person<br />\n<br />\nDouble Elimination\, depending on number of entrants
LOCATION:Cle Elum Memorial Ball Field
UID:e.40.10370
SEQUENCE:3
DTSTAMP:20260420T050932Z
URL:http://business.kittitascountychamber.com/events/details/boccie-ball-tournament-07-07-2013-10370
END:VEVENT

END:VCALENDAR
