BEGIN:VCALENDAR
VERSION:2.0
PRODID:-//ChamberMaster//Event Calendar 2.0//EN
METHOD:PUBLISH
X-PUBLISHED-TTL:P3D
REFRESH-INTERVAL:P3D
CALSCALE:GREGORIAN
BEGIN:VEVENT
DTSTART:20140401T190000Z
DTEND:20140430T190000Z
X-MICROSOFT-CDO-ALLDAYEVENT:FALSE
SUMMARY:BOGO Eyewear Event
DESCRIPTION:When you purchase a pair of eyeglasses or a year's supply of contacts\, you can receive an additional free pair of glasses! While supplies last\, see optician for details.
X-ALT-DESC;FMTTYPE=text/html:When you purchase a pair of eyeglasses or a year&#39\;s supply of contacts\, you can receive an additional free pair of glasses! While supplies last\, see optician for details.
LOCATION:2201 W. Dolarway Rd. Ellensburg\, WA 98926
UID:e.40.11346
SEQUENCE:3
DTSTAMP:20260419T143758Z
URL:http://business.kittitascountychamber.com/events/details/bogo-eyewear-event-04-01-2014-11346
END:VEVENT

END:VCALENDAR
