BEGIN:VCALENDAR
VERSION:2.0
PRODID:-//ChamberMaster//Event Calendar 2.0//EN
METHOD:PUBLISH
X-PUBLISHED-TTL:P3D
REFRESH-INTERVAL:P3D
CALSCALE:GREGORIAN
BEGIN:VEVENT
DTSTART:20131101T000000Z
DTEND:20131101T020000Z
X-MICROSOFT-CDO-ALLDAYEVENT:FALSE
SUMMARY:Boo-Central
DESCRIPTION:Trick or treat\, smell my feet! Don?t be the parent who gets egged this year\, instead give your kids the ultimate treat by bringing them to the 21st annual Boo Central Thursday\, Oct. 21 from 5 to 7 p.m. in the Student Union and Recreation Center (SURC) Ballroom. Children ages 4 to 9 are welcome to attend and must be accompanied by an adult to this free event. With the SURC draped in Halloween d cor\, fun games and everyone dressed up in their best costume\, this is the perfect chance for kids and their parents to enjoy a haunted evening without suffering through the freezing weather. For more information call Campus Activities at 509-963-1450.
X-ALT-DESC;FMTTYPE=text/html:Trick or treat\, smell my feet! Don?t be the parent who gets egged this year\, instead give your kids the ultimate treat by bringing them to the 21st annual Boo Central Thursday\, Oct. 21 from 5 to 7 p.m. in the Student Union and Recreation Center (SURC) Ballroom. Children ages 4 to 9 are welcome to attend and must be accompanied by an adult to this free event. With the SURC draped in Halloween d&eacute\;cor\, fun games and everyone dressed up in their best costume\, this is the perfect chance for kids and their parents to enjoy a haunted evening without suffering through the freezing weather. For more information call Campus Activities at 509-963-1450. 
LOCATION:Student Union and Recreation Center Ballroom
UID:e.40.10796
SEQUENCE:3
DTSTAMP:20260420T002913Z
URL:http://business.kittitascountychamber.com/events/details/boo-central-10-31-2013-10796
END:VEVENT

END:VCALENDAR
