BEGIN:VCALENDAR
VERSION:2.0
PRODID:-//ChamberMaster//Event Calendar 2.0//EN
METHOD:PUBLISH
X-PUBLISHED-TTL:P3D
REFRESH-INTERVAL:P3D
CALSCALE:GREGORIAN
BEGIN:VEVENT
DTSTART:20131031T233000Z
DTEND:20131101T023000Z
X-MICROSOFT-CDO-ALLDAYEVENT:FALSE
SUMMARY:BOO Elum
DESCRIPTION:Costume Contest will be on Penn. starting at 4:30. Halloween parade will begin at 5pm and go down 1st St. Trick or Treating the downtown business and Trunk or Treating will begin at 5:15.
X-ALT-DESC;FMTTYPE=text/html:<div style="color: gray\;">\n	<span style="font: 13px/24px &quot\;Lucida Grande&quot\;\, Arial\, sans-serif\; text-align: left\; color: rgb(51\, 51\, 51)\; text-transform: none\; text-indent: 0px\; letter-spacing: normal\; word-spacing: 0px\; float: none\; display: inline !important\; white-space: normal\; font-size-adjust: none\; font-stretch: normal\; background-color: rgb(238\, 238\, 238)\; -webkit-text-stroke-width: 0px\;">Costume Contest will be on Penn. starting at 4:30. Halloween parade will begin at 5pm and go down 1st St. Trick or Treating the downtown business and Trunk or Treating will begin at 5:15.</span></div>\n
LOCATION:Downtown Cle Elum1st St and Penn. Truck or Treating will be on Harris St.Cle Elum\, WA 98922
UID:e.40.10721
SEQUENCE:3
DTSTAMP:20260420T003125Z
URL:http://business.kittitascountychamber.com/events/details/boo-elum-10-31-2013-10721
END:VEVENT

END:VCALENDAR
