BEGIN:VCALENDAR
VERSION:2.0
PRODID:-//ChamberMaster//Event Calendar 2.0//EN
METHOD:PUBLISH
X-PUBLISHED-TTL:P3D
REFRESH-INTERVAL:P3D
CALSCALE:GREGORIAN
BEGIN:VEVENT
DTSTART:20131031T233000Z
DTEND:20131101T013000Z
X-MICROSOFT-CDO-ALLDAYEVENT:FALSE
SUMMARY:BOO ELUM!
DESCRIPTION:Boo Elum!\n\n\n\n4:30 pm- Costume Contest\n\n5:00 pm- Halloween Parade 1st Ave.\n\n5:15 pm: Trick or Treat Downtown Cle Elum\n\n\n\nContact Kerri Karnum\, Vision Cle Elum\n\n(509) 304-8222
X-ALT-DESC;FMTTYPE=text/html:Boo Elum!<br />\n<br />\n4:30 pm- Costume Contest<br />\n5:00 pm- Halloween Parade 1st Ave.<br />\n5:15 pm: Trick or Treat Downtown Cle Elum<br />\n<br />\nContact Kerri Karnum\, Vision Cle Elum<br />\n(509) 304-8222
LOCATION:Downtown Cle Elum
UID:e.40.10790
SEQUENCE:3
DTSTAMP:20260420T003239Z
URL:http://business.kittitascountychamber.com/events/details/boo-elum-10-31-2013-10790
END:VEVENT

END:VCALENDAR
