BEGIN:VCALENDAR
VERSION:2.0
PRODID:-//ChamberMaster//Event Calendar 2.0//EN
METHOD:PUBLISH
X-PUBLISHED-TTL:P3D
REFRESH-INTERVAL:P3D
CALSCALE:GREGORIAN
BEGIN:VEVENT
DTSTART:20131207T180000Z
DTEND:20131207T200000Z
X-MICROSOFT-CDO-ALLDAYEVENT:FALSE
SUMMARY:Bounce Out Hunger
DESCRIPTION:Saturday December 7\, 2013\, from 10:00 am - 12:00 noon the 3 rd Annual Bounce Out Hunger will happen at Valley View Elementary.  There will be  bounce houses\, cfrafts\, and a hot chocolate bar.  We ask that you bring canned food for donation to the FISH Food Bank.\n\n\n\nThis event is Sponsored by Steve Weidenbach Agency of American Family Insurance\; Bounce Central and Big Country Family Dental
X-ALT-DESC;FMTTYPE=text/html:Saturday December 7\, 2013\, from 10:00 am - 12:00 noon the 3 rd Annual Bounce Out Hunger will happen at Valley View Elementary.&nbsp\; There will be&nbsp\; bounce houses\, cfrafts\, and a hot chocolate bar.&nbsp\; We ask that you bring canned food for donation to the FISH Food Bank.<br />\n<br />\nThis event is Sponsored by Steve Weidenbach Agency of American Family Insurance\; Bounce Central and Big Country Family Dental
LOCATION:Valley View Elementary School 1508 E. 3 rd Avenue
UID:e.40.10831
SEQUENCE:3
DTSTAMP:20260419T210822Z
URL:http://business.kittitascountychamber.com/events/details/bounce-out-hunger-12-07-2013-10831
END:VEVENT

END:VCALENDAR
