BEGIN:VCALENDAR
VERSION:2.0
PRODID:-//ChamberMaster//Event Calendar 2.0//EN
METHOD:PUBLISH
X-PUBLISHED-TTL:P3D
REFRESH-INTERVAL:P3D
CALSCALE:GREGORIAN
BEGIN:VEVENT
DTSTART;VALUE=DATE:20190720
DTEND;VALUE=DATE:20190829
TRANSP:TRANSPARENT
X-MICROSOFT-CDO-ALLDAYEVENT:TRUE
SUMMARY:"Boxes of Fame": Ellensburg Rodeo Hall of Fame Art Auction Show
DESCRIPTION:20 local artists use their imaginations to create decorative "boxes" ranging from jewelry size to footlockers. These art objects will be auctioned off at the annual August 29 Ellensburg Rodeo Hall of Fame banquet at CWU. See www.erhof.com.
X-ALT-DESC;FMTTYPE=text/html:20 local artists use their imaginations to create decorative &quot\;boxes&quot\; ranging from jewelry size to footlockers. These art objects will be auctioned off at the annual August 29 Ellensburg Rodeo Hall of Fame banquet at CWU. See www.erhof.com.
LOCATION:Western Culture and Art Center\, 416 N. Pearl\, Ellensburg
UID:e.40.25880
SEQUENCE:3
DTSTAMP:20260421T132411Z
URL:http://business.kittitascountychamber.com/events/details/boxes-of-fame-ellensburg-rodeo-hall-of-fame-art-auction-show-25880
END:VEVENT

END:VCALENDAR
