BEGIN:VCALENDAR
VERSION:2.0
PRODID:-//ChamberMaster//Event Calendar 2.0//EN
METHOD:PUBLISH
X-PUBLISHED-TTL:P3D
REFRESH-INTERVAL:P3D
CALSCALE:GREGORIAN
BEGIN:VEVENT
DTSTART:20140118T020000Z
DTEND:20140118T060000Z
X-MICROSOFT-CDO-ALLDAYEVENT:FALSE
SUMMARY:Brewers Dinner in The Canyon
DESCRIPTION:Brewers Dinner in the Canyon\n\nJoin Canyon River Grill and Bale Breaker Brewing Company for a four-course Brewer's Dinner. Each Course will be masterfully paired with a northwest brew.
X-ALT-DESC;FMTTYPE=text/html:Brewers Dinner in the Canyon<br />\nJoin Canyon River Grill and Bale Breaker Brewing Company for a four-course Brewer&#39\;s Dinner. Each Course will be masterfully paired with a northwest brew.
LOCATION:Canyon River Grill 14700 Hwy 821 Ellensburg
UID:e.40.10918
SEQUENCE:3
DTSTAMP:20260419T192257Z
URL:http://business.kittitascountychamber.com/events/details/brewers-dinner-in-the-canyon-01-17-2014-10918
END:VEVENT

END:VCALENDAR
