BEGIN:VCALENDAR
VERSION:2.0
PRODID:-//ChamberMaster//Event Calendar 2.0//EN
METHOD:PUBLISH
X-PUBLISHED-TTL:P3D
REFRESH-INTERVAL:P3D
CALSCALE:GREGORIAN
BEGIN:VEVENT
DTSTART:20130427T163000Z
DTEND:20130427T190000Z
X-MICROSOFT-CDO-ALLDAYEVENT:FALSE
SUMMARY:Bright Beginnings for Kittitas County 5k Walk/Run Fundraiser
DESCRIPTION:5k Walk/Run Fundraiser
X-ALT-DESC;FMTTYPE=text/html:<span style="font-size: 11pt"><span style="font-family: calibri\, sans-serif"><span style="font-family: calibri">5k Walk/Run Fundraiser</span></span></span>
LOCATION:West Ellensburg Park
UID:e.40.10162
SEQUENCE:3
DTSTAMP:20260420T100125Z
URL:http://business.kittitascountychamber.com/events/details/bright-beginnings-for-kittitas-county-5k-walk-run-fundraiser-04-27-2013-10162
END:VEVENT

END:VCALENDAR
