BEGIN:VCALENDAR
VERSION:2.0
PRODID:-//ChamberMaster//Event Calendar 2.0//EN
METHOD:PUBLISH
X-PUBLISHED-TTL:P3D
REFRESH-INTERVAL:P3D
CALSCALE:GREGORIAN
BEGIN:VEVENT
DTSTART:20130428T020000Z
DTEND:20130428T060000Z
X-MICROSOFT-CDO-ALLDAYEVENT:FALSE
SUMMARY:Burg Stock
DESCRIPTION:Burg Stock Saturday\, April 27 7 p.m.-11 p.m. Come out and enjoy the Ellensburg music scene for free at 88.1 The 'Burg's event Burg Stock Saturday\, April 27 from 7 p.m. to 11 p.m. Local bands The Dainty Saints\, Fight or Flight\, The Dogtown Two\, Scruffalo\, Blackburn and Esoson will meet to battle at Prosody Events located at 117 E 4th Ave. Event-goers can take in the live entertainment\, and cheer on their favorite competitor as the bands battle it out. Everyone who attends will also be entered in a free raffle for tickets to the Sasquatch Music Festival\, a 4-day event at the scenic Gorge amphitheatre. Don't miss your chance to win seeing Mumford and Sons\, Imagine Dragons\, Macklemore & Ryan Lewis and many others for free! For more information visit the 'Burg studios in room 120 at CWU's Student Union and Recreation Center (SURC)\, or contact Cody Spencer at promo@cwu.edu.
X-ALT-DESC;FMTTYPE=text/html:Burg Stock Saturday\, April 27 7 p.m.-11 p.m. Come out and enjoy the Ellensburg music scene for free at 88.1 The &#39\;Burg&#39\;s event Burg Stock Saturday\, April 27 from 7 p.m. to 11 p.m. Local bands The Dainty Saints\, Fight or Flight\, The Dogtown Two\, Scruffalo\, Blackburn and Esoson will meet to battle at Prosody Events located at 117 E 4th Ave. Event-goers can take in the live entertainment\, and cheer on their favorite competitor as the bands battle it out. Everyone who attends will also be entered in a free raffle for tickets to the Sasquatch Music Festival\, a 4-day event at the scenic Gorge amphitheatre. Don&#39\;t miss your chance to win seeing Mumford and Sons\, Imagine Dragons\, Macklemore &amp\; Ryan Lewis and many others for free! For more information visit the &#39\;Burg studios in room 120 at CWU&#39\;s Student Union and Recreation Center (SURC)\, or contact Cody Spencer at promo@cwu.edu. 
LOCATION:Prosody Events\, 117 E 4th Ave Ellensburg\, WA
UID:e.40.10165
SEQUENCE:3
DTSTAMP:20260420T101833Z
URL:http://business.kittitascountychamber.com/events/details/burg-stock-04-27-2013-10165
END:VEVENT

END:VCALENDAR
